BEGIN:VCALENDAR
VERSION:2.0
PRODID:-//Izhar Elias - ECPv6.15.17//NONSGML v1.0//EN
CALSCALE:GREGORIAN
METHOD:PUBLISH
X-WR-CALNAME:Izhar Elias
X-ORIGINAL-URL:https://izharelias.com
X-WR-CALDESC:Events for Izhar Elias
REFRESH-INTERVAL;VALUE=DURATION:PT1H
X-Robots-Tag:noindex
X-PUBLISHED-TTL:PT1H
BEGIN:VTIMEZONE
TZID:Europe/Amsterdam
BEGIN:DAYLIGHT
TZOFFSETFROM:+0100
TZOFFSETTO:+0200
TZNAME:CEST
DTSTART:20250330T010000
END:DAYLIGHT
BEGIN:STANDARD
TZOFFSETFROM:+0200
TZOFFSETTO:+0100
TZNAME:CET
DTSTART:20251026T010000
END:STANDARD
BEGIN:DAYLIGHT
TZOFFSETFROM:+0100
TZOFFSETTO:+0200
TZNAME:CEST
DTSTART:20260329T010000
END:DAYLIGHT
BEGIN:STANDARD
TZOFFSETFROM:+0200
TZOFFSETTO:+0100
TZNAME:CET
DTSTART:20261025T010000
END:STANDARD
BEGIN:DAYLIGHT
TZOFFSETFROM:+0100
TZOFFSETTO:+0200
TZNAME:CEST
DTSTART:20270328T010000
END:DAYLIGHT
BEGIN:STANDARD
TZOFFSETFROM:+0200
TZOFFSETTO:+0100
TZNAME:CET
DTSTART:20271031T010000
END:STANDARD
END:VTIMEZONE
BEGIN:VEVENT
DTSTART;TZID=Europe/Amsterdam:20260516T200000
DTEND;TZID=Europe/Amsterdam:20260516T220000
DTSTAMP:20260420T185955
CREATED:20260418T083939Z
LAST-MODIFIED:20260418T085540Z
UID:5921-1778961600-1778968800@izharelias.com
SUMMARY:Paganini in Berkel
DESCRIPTION:Izhar Elias and Brunsvik String Trio play pieces by Boccherini and Paganini. \nBrunsvik String Trio: Quirine Scheffers – violin\, Asdis Valdimarsdottir – viola\, Michael Stirling – cello
URL:https://izharelias.com/event/paganini-in-berkel/
LOCATION:Concertkerk\, Noordeindseweg 102\, Berkel\, Netherlands
ATTACH;FMTTYPE=image/png:https://izharelias.com/wp-content/uploads/2026/01/Middel-27@4x-scaled.png
END:VEVENT
END:VCALENDAR