BEGIN:VCALENDAR
VERSION:2.0
PRODID:-//Izhar Elias - ECPv6.15.17//NONSGML v1.0//EN
CALSCALE:GREGORIAN
METHOD:PUBLISH
X-WR-CALNAME:Izhar Elias
X-ORIGINAL-URL:https://izharelias.com
X-WR-CALDESC:Events for Izhar Elias
REFRESH-INTERVAL;VALUE=DURATION:PT1H
X-Robots-Tag:noindex
X-PUBLISHED-TTL:PT1H
BEGIN:VTIMEZONE
TZID:Europe/Amsterdam
BEGIN:DAYLIGHT
TZOFFSETFROM:+0100
TZOFFSETTO:+0200
TZNAME:CEST
DTSTART:20250330T010000
END:DAYLIGHT
BEGIN:STANDARD
TZOFFSETFROM:+0200
TZOFFSETTO:+0100
TZNAME:CET
DTSTART:20251026T010000
END:STANDARD
BEGIN:DAYLIGHT
TZOFFSETFROM:+0100
TZOFFSETTO:+0200
TZNAME:CEST
DTSTART:20260329T010000
END:DAYLIGHT
BEGIN:STANDARD
TZOFFSETFROM:+0200
TZOFFSETTO:+0100
TZNAME:CET
DTSTART:20261025T010000
END:STANDARD
BEGIN:DAYLIGHT
TZOFFSETFROM:+0100
TZOFFSETTO:+0200
TZNAME:CEST
DTSTART:20270328T010000
END:DAYLIGHT
BEGIN:STANDARD
TZOFFSETFROM:+0200
TZOFFSETTO:+0100
TZNAME:CET
DTSTART:20271031T010000
END:STANDARD
END:VTIMEZONE
BEGIN:VEVENT
DTSTART;TZID=Europe/Amsterdam:20260523T140000
DTEND;TZID=Europe/Amsterdam:20260523T160000
DTSTAMP:20260420T185955
CREATED:20260418T090359Z
LAST-MODIFIED:20260418T141256Z
UID:5927-1779544800-1779552000@izharelias.com
SUMMARY:Paganini in Linschoten
DESCRIPTION:Izhar Elias and Brunsvik String Trio play works by Boccherini and Paganini. Brunsvik String Trio: Quirine Scheffers – violin\, Asdis Valdimarsdottir – viola\, Michael Stirling – cello
URL:https://izharelias.com/event/paganini-in-linschoten/
LOCATION:Huis te Linschoten\, Noord Linschoterdijk 21\, Linschoten\, Netherlands
ATTACH;FMTTYPE=image/jpeg:https://izharelias.com/wp-content/uploads/2026/04/Quirine_Scheffers1.jpg
END:VEVENT
END:VCALENDAR